BEGIN:VCALENDAR
VERSION:2.0
PRODID:-// - ECPv6.15.18//NONSGML v1.0//EN
CALSCALE:GREGORIAN
METHOD:PUBLISH
X-ORIGINAL-URL:https://www.schollaklopfer-tannhausen.de
X-WR-CALDESC:Veranstaltungen für 
REFRESH-INTERVAL;VALUE=DURATION:PT1H
X-Robots-Tag:noindex
X-PUBLISHED-TTL:PT1H
BEGIN:VTIMEZONE
TZID:Europe/Berlin
BEGIN:DAYLIGHT
TZOFFSETFROM:+0100
TZOFFSETTO:+0200
TZNAME:CEST
DTSTART:20170326T010000
END:DAYLIGHT
BEGIN:STANDARD
TZOFFSETFROM:+0200
TZOFFSETTO:+0100
TZNAME:CET
DTSTART:20171029T010000
END:STANDARD
BEGIN:DAYLIGHT
TZOFFSETFROM:+0100
TZOFFSETTO:+0200
TZNAME:CEST
DTSTART:20180325T010000
END:DAYLIGHT
BEGIN:STANDARD
TZOFFSETFROM:+0200
TZOFFSETTO:+0100
TZNAME:CET
DTSTART:20181028T010000
END:STANDARD
BEGIN:DAYLIGHT
TZOFFSETFROM:+0100
TZOFFSETTO:+0200
TZNAME:CEST
DTSTART:20190331T010000
END:DAYLIGHT
BEGIN:STANDARD
TZOFFSETFROM:+0200
TZOFFSETTO:+0100
TZNAME:CET
DTSTART:20191027T010000
END:STANDARD
BEGIN:DAYLIGHT
TZOFFSETFROM:+0100
TZOFFSETTO:+0200
TZNAME:CEST
DTSTART:20200329T010000
END:DAYLIGHT
BEGIN:STANDARD
TZOFFSETFROM:+0200
TZOFFSETTO:+0100
TZNAME:CET
DTSTART:20201025T010000
END:STANDARD
BEGIN:DAYLIGHT
TZOFFSETFROM:+0100
TZOFFSETTO:+0200
TZNAME:CEST
DTSTART:20210328T010000
END:DAYLIGHT
BEGIN:STANDARD
TZOFFSETFROM:+0200
TZOFFSETTO:+0100
TZNAME:CET
DTSTART:20211031T010000
END:STANDARD
END:VTIMEZONE
BEGIN:VEVENT
DTSTART;VALUE=DATE:20200209
DTEND;VALUE=DATE:20200210
DTSTAMP:20260423T125958
CREATED:20191209T094631Z
LAST-MODIFIED:20191209T094631Z
UID:910-1581206400-1581292799@www.schollaklopfer-tannhausen.de
SUMMARY:Umzug Pleinfeld
DESCRIPTION:
URL:https://www.schollaklopfer-tannhausen.de/event/umzug-pleinfeld-3/
LOCATION:pleinfeld
END:VEVENT
BEGIN:VEVENT
DTSTART;VALUE=DATE:20200208
DTEND;VALUE=DATE:20200209
DTSTAMP:20260423T125958
CREATED:20191209T094527Z
LAST-MODIFIED:20191209T094527Z
UID:908-1581120000-1581206399@www.schollaklopfer-tannhausen.de
SUMMARY:Narrengottesdienst Jagstzell
DESCRIPTION:
URL:https://www.schollaklopfer-tannhausen.de/event/narrengottesdienst-jagstzell/
LOCATION:Jagstzell\, Deutschland
END:VEVENT
BEGIN:VEVENT
DTSTART;VALUE=DATE:20200202
DTEND;VALUE=DATE:20200203
DTSTAMP:20260423T125958
CREATED:20191209T094426Z
LAST-MODIFIED:20191209T094426Z
UID:904-1580601600-1580687999@www.schollaklopfer-tannhausen.de
SUMMARY:Umzug Röhlingen
DESCRIPTION:
URL:https://www.schollaklopfer-tannhausen.de/event/umzug-roehlingen/
LOCATION:Röhlingen
END:VEVENT
BEGIN:VEVENT
DTSTART;VALUE=DATE:20200201
DTEND;VALUE=DATE:20200202
DTSTAMP:20260423T125958
CREATED:20191209T094235Z
LAST-MODIFIED:20191209T094235Z
UID:901-1580515200-1580601599@www.schollaklopfer-tannhausen.de
SUMMARY:Guggatreffen Günzburg
DESCRIPTION:
URL:https://www.schollaklopfer-tannhausen.de/event/guggatreffen-guenzburg/
LOCATION:Günzburg
END:VEVENT
BEGIN:VEVENT
DTSTART;VALUE=DATE:20200118
DTEND;VALUE=DATE:20200119
DTSTAMP:20260423T125958
CREATED:20191209T094027Z
LAST-MODIFIED:20191209T094027Z
UID:899-1579305600-1579391999@www.schollaklopfer-tannhausen.de
SUMMARY:Brauchtumsabend Neresheim
DESCRIPTION:
URL:https://www.schollaklopfer-tannhausen.de/event/brauchtumsabend-neresheim-2/
LOCATION:Neresheim\, Neresheim\, Deutschland
END:VEVENT
BEGIN:VEVENT
DTSTART;VALUE=DATE:20200110
DTEND;VALUE=DATE:20200111
DTSTAMP:20260423T125958
CREATED:20191209T093841Z
LAST-MODIFIED:20191209T093841Z
UID:896-1578614400-1578700799@www.schollaklopfer-tannhausen.de
SUMMARY:Guggacontest Jagstalgullys
DESCRIPTION:
URL:https://www.schollaklopfer-tannhausen.de/event/guggacontest-jagstalgullys/
END:VEVENT
BEGIN:VEVENT
DTSTART;VALUE=DATE:20200105
DTEND;VALUE=DATE:20200106
DTSTAMP:20260423T125958
CREATED:20191209T093511Z
LAST-MODIFIED:20191209T093511Z
UID:893-1578182400-1578268799@www.schollaklopfer-tannhausen.de
SUMMARY:Maskenabstauben Ebnat
DESCRIPTION:
URL:https://www.schollaklopfer-tannhausen.de/event/maskenabstauben-ebnat/
LOCATION:Ebnat
END:VEVENT
BEGIN:VEVENT
DTSTART;VALUE=DATE:20200104
DTEND;VALUE=DATE:20200105
DTSTAMP:20260423T125958
CREATED:20191209T093326Z
LAST-MODIFIED:20191209T093326Z
UID:888-1578096000-1578182399@www.schollaklopfer-tannhausen.de
SUMMARY:Guggaparty Mönchsdeggingen
DESCRIPTION:
URL:https://www.schollaklopfer-tannhausen.de/event/guggaparty-moenchsdeggingen/
LOCATION:Mönchsdeggingen
END:VEVENT
BEGIN:VEVENT
DTSTART;VALUE=DATE:20190305
DTEND;VALUE=DATE:20190306
DTSTAMP:20260423T125958
CREATED:20181116T085150Z
LAST-MODIFIED:20181116T085244Z
UID:873-1551744000-1551830399@www.schollaklopfer-tannhausen.de
SUMMARY:Umzug Stödtlen
DESCRIPTION:
URL:https://www.schollaklopfer-tannhausen.de/event/umzug-stoedtlen-2/
LOCATION:Stödtlen\, Deutschland
END:VEVENT
BEGIN:VEVENT
DTSTART;VALUE=DATE:20190304
DTEND;VALUE=DATE:20190305
DTSTAMP:20260423T125958
CREATED:20181116T085113Z
LAST-MODIFIED:20181116T085333Z
UID:870-1551657600-1551743999@www.schollaklopfer-tannhausen.de
SUMMARY:Umzug Pfahlheim
DESCRIPTION:
URL:https://www.schollaklopfer-tannhausen.de/event/umzug-pfahlheim-2/
LOCATION:Pfahlheim\, Deutschland
END:VEVENT
BEGIN:VEVENT
DTSTART;VALUE=DATE:20190303
DTEND;VALUE=DATE:20190304
DTSTAMP:20260423T125958
CREATED:20181116T085034Z
LAST-MODIFIED:20181116T085415Z
UID:868-1551571200-1551657599@www.schollaklopfer-tannhausen.de
SUMMARY:Umzug Wört
DESCRIPTION:
URL:https://www.schollaklopfer-tannhausen.de/event/umzug-woert-2/
LOCATION:Wört\, Deutschland
END:VEVENT
BEGIN:VEVENT
DTSTART;VALUE=DATE:20190302
DTEND;VALUE=DATE:20190303
DTSTAMP:20260423T125958
CREATED:20181116T084955Z
LAST-MODIFIED:20181116T085437Z
UID:865-1551484800-1551571199@www.schollaklopfer-tannhausen.de
SUMMARY:Umzug Kerkingen
DESCRIPTION:
URL:https://www.schollaklopfer-tannhausen.de/event/umzug-kerkingen/
LOCATION:Kerkingen\, Deutschland
END:VEVENT
BEGIN:VEVENT
DTSTART;VALUE=DATE:20190301
DTEND;VALUE=DATE:20190302
DTSTAMP:20260423T125958
CREATED:20181116T084900Z
LAST-MODIFIED:20181116T084900Z
UID:862-1551398400-1551484799@www.schollaklopfer-tannhausen.de
SUMMARY:Bösa Böck Party
DESCRIPTION:
URL:https://www.schollaklopfer-tannhausen.de/event/boesa-boeck-party/
LOCATION:Wört\, Deutschland
END:VEVENT
BEGIN:VEVENT
DTSTART;VALUE=DATE:20190228
DTEND;VALUE=DATE:20190301
DTSTAMP:20260423T125958
CREATED:20181116T084747Z
LAST-MODIFIED:20181116T084747Z
UID:860-1551312000-1551398399@www.schollaklopfer-tannhausen.de
SUMMARY:Gumpendonnerstag
DESCRIPTION:
URL:https://www.schollaklopfer-tannhausen.de/event/gumpendonnerstag/
END:VEVENT
BEGIN:VEVENT
DTSTART;VALUE=DATE:20190224
DTEND;VALUE=DATE:20190225
DTSTAMP:20260423T125958
CREATED:20181116T084710Z
LAST-MODIFIED:20181116T084710Z
UID:857-1550966400-1551052799@www.schollaklopfer-tannhausen.de
SUMMARY:Umzug Lauchheim
DESCRIPTION:
URL:https://www.schollaklopfer-tannhausen.de/event/umzug-lauchheim/
LOCATION:Lauchheim\, Deutschland
END:VEVENT
BEGIN:VEVENT
DTSTART;VALUE=DATE:20190222
DTEND;VALUE=DATE:20190223
DTSTAMP:20260423T125958
CREATED:20181116T084555Z
LAST-MODIFIED:20181116T084555Z
UID:855-1550793600-1550879999@www.schollaklopfer-tannhausen.de
SUMMARY:Bürgerball
DESCRIPTION:
URL:https://www.schollaklopfer-tannhausen.de/event/buergerball/
LOCATION:Turnhalle Tannhausen\, Ellwangerstraße\, Tannhausen\, Baden-Württemberg\, 73497\, Deutschland
END:VEVENT
BEGIN:VEVENT
DTSTART;VALUE=DATE:20190217
DTEND;VALUE=DATE:20190218
DTSTAMP:20260423T125958
CREATED:20181116T084109Z
LAST-MODIFIED:20181116T084109Z
UID:853-1550361600-1550447999@www.schollaklopfer-tannhausen.de
SUMMARY:Umzug Pleinfeld
DESCRIPTION:
URL:https://www.schollaklopfer-tannhausen.de/event/umzug-pleinfeld-2/
END:VEVENT
BEGIN:VEVENT
DTSTART;VALUE=DATE:20190216
DTEND;VALUE=DATE:20190217
DTSTAMP:20260423T125958
CREATED:20181116T083936Z
LAST-MODIFIED:20181116T083936Z
UID:850-1550275200-1550361599@www.schollaklopfer-tannhausen.de
SUMMARY:Wildes Heer Jagstzell
DESCRIPTION:
URL:https://www.schollaklopfer-tannhausen.de/event/wildes-heer-jagstzell-2/
LOCATION:Jagstzell\, Deutschland
END:VEVENT
BEGIN:VEVENT
DTSTART;VALUE=DATE:20190209
DTEND;VALUE=DATE:20190210
DTSTAMP:20260423T125958
CREATED:20181119T095107Z
LAST-MODIFIED:20181119T095107Z
UID:882-1549670400-1549756799@www.schollaklopfer-tannhausen.de
SUMMARY:Leipheimer Guggamusiktreffen
DESCRIPTION:
URL:https://www.schollaklopfer-tannhausen.de/event/leipheimer-guggamusiktreffen/
ATTACH;FMTTYPE=image/jpeg:https://www.schollaklopfer-tannhausen.de/wp-content/uploads/2018/11/33049114_1781963818508715_4164532588079218688_n.jpg
END:VEVENT
BEGIN:VEVENT
DTSTART;VALUE=DATE:20190202
DTEND;VALUE=DATE:20190203
DTSTAMP:20260423T125958
CREATED:20181116T083814Z
LAST-MODIFIED:20181116T083814Z
UID:845-1549065600-1549151999@www.schollaklopfer-tannhausen.de
SUMMARY:Guggenparty vom Riegelberg Gugga
DESCRIPTION:
URL:https://www.schollaklopfer-tannhausen.de/event/guggenparty-vom-riegelberg-gugga/
LOCATION:Utzmemmingen\, Deutschland
ATTACH;FMTTYPE=image/jpeg:https://www.schollaklopfer-tannhausen.de/wp-content/uploads/2018/11/45137769_2110202862375934_7835901719673307136_n.jpg
END:VEVENT
BEGIN:VEVENT
DTSTART;VALUE=DATE:20190126
DTEND;VALUE=DATE:20190127
DTSTAMP:20260423T125958
CREATED:20181116T083543Z
LAST-MODIFIED:20181116T083543Z
UID:840-1548460800-1548547199@www.schollaklopfer-tannhausen.de
SUMMARY:Guggenparty Röhling Stones
DESCRIPTION:
URL:https://www.schollaklopfer-tannhausen.de/event/guggenparty-roehling-stones/
LOCATION:Röhlingen\, Sechtahalle\, Deutschland
ATTACH;FMTTYPE=image/jpeg:https://www.schollaklopfer-tannhausen.de/wp-content/uploads/2018/11/Röhling-Stones.jpg
END:VEVENT
BEGIN:VEVENT
DTSTART;VALUE=DATE:20190120
DTEND;VALUE=DATE:20190121
DTSTAMP:20260423T125958
CREATED:20181116T083145Z
LAST-MODIFIED:20181116T083145Z
UID:837-1547942400-1548028799@www.schollaklopfer-tannhausen.de
SUMMARY:Ostalb Umzug Abstgmünd
DESCRIPTION:
URL:https://www.schollaklopfer-tannhausen.de/event/ostalb-umzug-abstgmuend/
LOCATION:Abstgmünd\, Deutschland
END:VEVENT
BEGIN:VEVENT
DTSTART;VALUE=DATE:20190119
DTEND;VALUE=DATE:20190120
DTSTAMP:20260423T125958
CREATED:20181116T082931Z
LAST-MODIFIED:20181116T082931Z
UID:833-1547856000-1547942399@www.schollaklopfer-tannhausen.de
SUMMARY:Brauchtumsabend Neresheim
DESCRIPTION:
URL:https://www.schollaklopfer-tannhausen.de/event/brauchtumsabend-neresheim/
LOCATION:Neresheim\, Neresheim\, Deutschland
END:VEVENT
BEGIN:VEVENT
DTSTART;VALUE=DATE:20190112
DTEND;VALUE=DATE:20190113
DTSTAMP:20260423T125958
CREATED:20181116T082653Z
LAST-MODIFIED:20181116T082653Z
UID:830-1547251200-1547337599@www.schollaklopfer-tannhausen.de
SUMMARY:Nuilermer Schlierbachfetzer
DESCRIPTION:
URL:https://www.schollaklopfer-tannhausen.de/event/nuilermer-schlierbachfetzer/
LOCATION:Neuler\, Deutschland
END:VEVENT
BEGIN:VEVENT
DTSTART;VALUE=DATE:20190105
DTEND;VALUE=DATE:20190106
DTSTAMP:20260423T125958
CREATED:20181116T082431Z
LAST-MODIFIED:20181119T092315Z
UID:828-1546646400-1546732799@www.schollaklopfer-tannhausen.de
SUMMARY:Ebnat
DESCRIPTION:
URL:https://www.schollaklopfer-tannhausen.de/event/ebnat/
ATTACH;FMTTYPE=image/jpeg:https://www.schollaklopfer-tannhausen.de/wp-content/uploads/2018/11/6ab05ffa-afb7-4172-a2cc-88354fd887cb.jpeg
END:VEVENT
BEGIN:VEVENT
DTSTART;VALUE=DATE:20180217
DTEND;VALUE=DATE:20180219
DTSTAMP:20260423T125958
CREATED:20171212T093558Z
LAST-MODIFIED:20171212T144815Z
UID:393-1518825600-1518998399@www.schollaklopfer-tannhausen.de
SUMMARY:Schweiz Thyangen
DESCRIPTION:
URL:https://www.schollaklopfer-tannhausen.de/event/schweiz-thyangen/
LOCATION:Thayngen\, Schweiz\, Thayngen\, 8240\, Schweiz
END:VEVENT
BEGIN:VEVENT
DTSTART;TZID=Europe/Berlin:20180213T173000
DTEND;TZID=Europe/Berlin:20180213T233000
DTSTAMP:20260423T125958
CREATED:20171212T093251Z
LAST-MODIFIED:20171212T145207Z
UID:391-1518543000-1518564600@www.schollaklopfer-tannhausen.de
SUMMARY:Hexenverbrennung David
DESCRIPTION:
URL:https://www.schollaklopfer-tannhausen.de/event/hexenverbrennung-david/
LOCATION:David\, Neuweilerstraße 20\, Tannhausen\, 73497\, Deutschland
END:VEVENT
BEGIN:VEVENT
DTSTART;TZID=Europe/Berlin:20180213T120000
DTEND;TZID=Europe/Berlin:20180213T170000
DTSTAMP:20260423T125958
CREATED:20171212T093216Z
LAST-MODIFIED:20171212T093216Z
UID:389-1518523200-1518541200@www.schollaklopfer-tannhausen.de
SUMMARY:Umzug Stödtlen
DESCRIPTION:
URL:https://www.schollaklopfer-tannhausen.de/event/umzug-stoedtlen/
END:VEVENT
BEGIN:VEVENT
DTSTART;TZID=Europe/Berlin:20180212T120000
DTEND;TZID=Europe/Berlin:20180212T200000
DTSTAMP:20260423T125958
CREATED:20171212T092925Z
LAST-MODIFIED:20171212T092925Z
UID:387-1518436800-1518465600@www.schollaklopfer-tannhausen.de
SUMMARY:Umzug Pfahlheim
DESCRIPTION:
URL:https://www.schollaklopfer-tannhausen.de/event/umzug-pfahlheim/
END:VEVENT
BEGIN:VEVENT
DTSTART;TZID=Europe/Berlin:20180211T120000
DTEND;TZID=Europe/Berlin:20180211T200000
DTSTAMP:20260423T125958
CREATED:20171212T092709Z
LAST-MODIFIED:20171212T092709Z
UID:384-1518350400-1518379200@www.schollaklopfer-tannhausen.de
SUMMARY:Umzug Wört
DESCRIPTION:
URL:https://www.schollaklopfer-tannhausen.de/event/umzug-woert/
END:VEVENT
END:VCALENDAR